BEGIN:VCALENDAR
VERSION:2.0
PRODID:-//Suda Institute - ECPv6.15.20//NONSGML v1.0//EN
CALSCALE:GREGORIAN
METHOD:PUBLISH
X-ORIGINAL-URL:https://sudainstitute.org
X-WR-CALDESC:Events for Suda Institute
REFRESH-INTERVAL;VALUE=DURATION:PT1H
X-Robots-Tag:noindex
X-PUBLISHED-TTL:PT1H
BEGIN:VTIMEZONE
TZID:America/New_York
BEGIN:DAYLIGHT
TZOFFSETFROM:-0500
TZOFFSETTO:-0400
TZNAME:EDT
DTSTART:20250309T070000
END:DAYLIGHT
BEGIN:STANDARD
TZOFFSETFROM:-0400
TZOFFSETTO:-0500
TZNAME:EST
DTSTART:20251102T060000
END:STANDARD
BEGIN:DAYLIGHT
TZOFFSETFROM:-0500
TZOFFSETTO:-0400
TZNAME:EDT
DTSTART:20260308T070000
END:DAYLIGHT
BEGIN:STANDARD
TZOFFSETFROM:-0400
TZOFFSETTO:-0500
TZNAME:EST
DTSTART:20261101T060000
END:STANDARD
BEGIN:DAYLIGHT
TZOFFSETFROM:-0500
TZOFFSETTO:-0400
TZNAME:EDT
DTSTART:20270314T070000
END:DAYLIGHT
BEGIN:STANDARD
TZOFFSETFROM:-0400
TZOFFSETTO:-0500
TZNAME:EST
DTSTART:20271107T060000
END:STANDARD
END:VTIMEZONE
BEGIN:VEVENT
DTSTART;TZID=America/New_York:20260212T100000
DTEND;TZID=America/New_York:20260212T104000
DTSTAMP:20260420T040933
CREATED:20260211T214536Z
LAST-MODIFIED:20260211T214536Z
UID:526-1770890400-1770892800@sudainstitute.org
SUMMARY:Cabarrus County Monthly Care Coordination (SUN Project)
DESCRIPTION:This monthly meeting brings together identified SUN Partners to coordinate care for active SUN participants. Attendance is limited to providers who have completed the SUN Project Collaboration Training from agencies with a signed Memorandum of Understanding (MOU)\, are listed on the participant’s Release of Information (ROI)\, and are authorized through a County Administrative Order. \nThe purpose of this meeting is to strengthen cross-agency collaboration\, reduce service gaps\, address barriers\, and ensure aligned\, trauma-informed\, and participant-centered care planning. Discussions focus on care updates\, system navigation\, and coordinated next steps to support improved outcomes for families.
URL:https://sudainstitute.org/event/cabarrus-county-monthly-care-coordination-sun-project/
END:VEVENT
BEGIN:VEVENT
DTSTART;TZID=America/New_York:20260212T104500
DTEND;TZID=America/New_York:20260212T113000
DTSTAMP:20260420T040933
CREATED:20260211T214650Z
LAST-MODIFIED:20260211T214650Z
UID:527-1770893100-1770895800@sudainstitute.org
SUMMARY:Rowan County Monthly Care Coordination (SUN Project)
DESCRIPTION:This monthly meeting brings together identified SUN Partners to coordinate care for active SUN participants. Attendance is limited to providers who have completed the SUN Project Collaboration Training from agencies with a signed Memorandum of Understanding (MOU)\, are listed on the participant’s Release of Information (ROI)\, and are authorized through a County Administrative Order. \nThe purpose of this meeting is to strengthen cross-agency collaboration\, reduce service gaps\, address barriers\, and ensure aligned\, trauma-informed\, and participant-centered care planning. Discussions focus on care updates\, system navigation\, and coordinated next steps to support improved outcomes for families.
URL:https://sudainstitute.org/event/rowan-county-monthly-care-coordination-sun-project/
END:VEVENT
BEGIN:VEVENT
DTSTART;TZID=America/New_York:20260217T070000
DTEND;TZID=America/New_York:20260217T080000
DTSTAMP:20260420T040933
CREATED:20251210T013156Z
LAST-MODIFIED:20251210T013156Z
UID:472-1771311600-1771315200@sudainstitute.org
SUMMARY:Project Echo: Session 5: Lactation and Medications for Opioid Use Disorder
DESCRIPTION:The ECHO Model is all about all teach\, all learn. It is a collaborative approach where everyone shares knowledge\, discusses real cases\, and learns together. It’s built on four pillars: amplification (using technology to reach more people)\, best practices (reducing disparities)\, case-based learning (working through real examples)\, and data (tracking outcomes).
URL:https://sudainstitute.org/event/project-echo-session-5-lactation-and-medications-for-opioid-use-disorder/
END:VEVENT
BEGIN:VEVENT
DTSTART;TZID=America/New_York:20260217T140000
DTEND;TZID=America/New_York:20260217T153000
DTSTAMP:20260420T040933
CREATED:20260211T215029Z
LAST-MODIFIED:20260211T215029Z
UID:529-1771336800-1771342200@sudainstitute.org
SUMMARY:Substance Use Coalition Meeting - Cabarrus County
DESCRIPTION:Environmental Scan Training presented by the Cabarrus County Substance Use Coalition.
URL:https://sudainstitute.org/event/substance-use-coalition-meeting-cabarrus-county/
END:VEVENT
BEGIN:VEVENT
DTSTART;TZID=America/New_York:20260219T123000
DTEND;TZID=America/New_York:20260219T133000
DTSTAMP:20260420T040933
CREATED:20260211T191212Z
LAST-MODIFIED:20260211T191212Z
UID:516-1771504200-1771507800@sudainstitute.org
SUMMARY:Community Feedback Group
DESCRIPTION:This closed\, confidential feedback group is designed for individuals with lived experience to share insights\, perspectives\, and recommendations that inform and strengthen our programs and services. Participation is limited to invited members to ensure a safe\, respectful space for open dialogue. Conversations are guided but participant-driven\, with the goal of elevating authentic voices and improving systems of care. \nIf you are a pregnant or parenting mother experiencing substance use disorder within Cabarrus\, Rowan\, or Stanly County\, please reach out to your current service provider to get connected to this group.
URL:https://sudainstitute.org/event/community-feedback-group-3/
END:VEVENT
BEGIN:VEVENT
DTSTART;TZID=America/New_York:20260224T100000
DTEND;TZID=America/New_York:20260224T113000
DTSTAMP:20260420T040933
CREATED:20260211T192512Z
LAST-MODIFIED:20260211T192512Z
UID:521-1771927200-1771932600@sudainstitute.org
SUMMARY:Suda Institute Board Meeting
DESCRIPTION:Official meeting of The Suda Institute Board of Directors to review governance\, financial\, and strategic matters. This is a closed session limited to board members and invited participants only. \nAbout Us
URL:https://sudainstitute.org/event/suda-institute-board-meeting-4/
END:VEVENT
BEGIN:VEVENT
DTSTART;TZID=America/New_York:20260224T140000
DTEND;TZID=America/New_York:20260224T144500
DTSTAMP:20260420T040933
CREATED:20260211T214803Z
LAST-MODIFIED:20260211T214803Z
UID:528-1771941600-1771944300@sudainstitute.org
SUMMARY:Stanly County Monthly Care Coordination (SUN Project)
DESCRIPTION:This monthly meeting brings together identified SUN Partners to coordinate care for active SUN participants. Attendance is limited to providers who have completed the SUN Project Collaboration Training from agencies with a signed Memorandum of Understanding (MOU)\, are listed on the participant’s Release of Information (ROI)\, and are authorized through a County Administrative Order. \nThe purpose of this meeting is to strengthen cross-agency collaboration\, reduce service gaps\, address barriers\, and ensure aligned\, trauma-informed\, and participant-centered care planning. Discussions focus on care updates\, system navigation\, and coordinated next steps to support improved outcomes for families.
URL:https://sudainstitute.org/event/stanly-county-monthly-care-coordination-sun-project/
END:VEVENT
END:VCALENDAR